BEGIN:VCALENDAR
VERSION:2.0
PRODID:-//ENTF - ECPv6.15.13.1//NONSGML v1.0//EN
CALSCALE:GREGORIAN
METHOD:PUBLISH
X-WR-CALNAME:ENTF
X-ORIGINAL-URL:https://old.entfkent.org
X-WR-CALDESC:Events for ENTF
REFRESH-INTERVAL;VALUE=DURATION:PT1H
X-Robots-Tag:noindex
X-PUBLISHED-TTL:PT1H
BEGIN:VTIMEZONE
TZID:America/Detroit
BEGIN:DAYLIGHT
TZOFFSETFROM:-0500
TZOFFSETTO:-0400
TZNAME:EDT
DTSTART:20210314T070000
END:DAYLIGHT
BEGIN:STANDARD
TZOFFSETFROM:-0400
TZOFFSETTO:-0500
TZNAME:EST
DTSTART:20211107T060000
END:STANDARD
BEGIN:DAYLIGHT
TZOFFSETFROM:-0500
TZOFFSETTO:-0400
TZNAME:EDT
DTSTART:20220313T070000
END:DAYLIGHT
BEGIN:STANDARD
TZOFFSETFROM:-0400
TZOFFSETTO:-0500
TZNAME:EST
DTSTART:20221106T060000
END:STANDARD
BEGIN:DAYLIGHT
TZOFFSETFROM:-0500
TZOFFSETTO:-0400
TZNAME:EDT
DTSTART:20230312T070000
END:DAYLIGHT
BEGIN:STANDARD
TZOFFSETFROM:-0400
TZOFFSETTO:-0500
TZNAME:EST
DTSTART:20231105T060000
END:STANDARD
END:VTIMEZONE
BEGIN:VEVENT
DTSTART;TZID=America/Detroit:20220311T090000
DTEND;TZID=America/Detroit:20220311T123000
DTSTAMP:20260421T021501
CREATED:20220211T175809Z
LAST-MODIFIED:20220211T175809Z
UID:6615-1646989200-1647001800@old.entfkent.org
SUMMARY:Disability Awareness Day
DESCRIPTION:Please join Disability Advocates for our Annual Disability Awareness Day on Friday\, March 11\, from 9 am to 12:30 pm at the Salvation Army’s Kroc Center\, 2500 Division Ave. South! \nPlease feel free to share the invitation with friends and colleagues. \nTickets are $25. Visit https://www.dakc.us/events/#upcoming to register. Scholarships are available – email michael.w@dakc.us to request a scholarship or accommodations. \nOur agenda will include:\n• Keynote address\n• Advocacy panel\n• Legislative panel with Senators Winnie Brinks\, Mark Huizenga\, Curt VanderWall\, and Reps Tommy Brann and Rachel Hood\n• Breakout groups on employment\, healthcare\, housing and transportation\n• Potential employers on site – bring your resume\n• Community partner tables\n• Sponsor tables\n• Breakfast\n• Door prizes!
URL:https://old.entfkent.org/event/disability-awareness-day/
LOCATION:Salvation Army Kroc Center\, 2500 S Division\, Grand Rapids\, MI\, 49507\, United States
ATTACH;FMTTYPE=image/jpeg:https://old.entfkent.org/wp-content/uploads/2022/02/Untitled-960-×-540-px.jpg
END:VEVENT
END:VCALENDAR