BEGIN:VCALENDAR
VERSION:2.0
PRODID:-//ENTF - ECPv6.15.13.1//NONSGML v1.0//EN
CALSCALE:GREGORIAN
METHOD:PUBLISH
X-WR-CALNAME:ENTF
X-ORIGINAL-URL:https://old.entfkent.org
X-WR-CALDESC:Events for ENTF
REFRESH-INTERVAL;VALUE=DURATION:PT1H
X-Robots-Tag:noindex
X-PUBLISHED-TTL:PT1H
BEGIN:VTIMEZONE
TZID:America/Detroit
BEGIN:DAYLIGHT
TZOFFSETFROM:-0500
TZOFFSETTO:-0400
TZNAME:EDT
DTSTART:20210314T070000
END:DAYLIGHT
BEGIN:STANDARD
TZOFFSETFROM:-0400
TZOFFSETTO:-0500
TZNAME:EST
DTSTART:20211107T060000
END:STANDARD
BEGIN:DAYLIGHT
TZOFFSETFROM:-0500
TZOFFSETTO:-0400
TZNAME:EDT
DTSTART:20220313T070000
END:DAYLIGHT
BEGIN:STANDARD
TZOFFSETFROM:-0400
TZOFFSETTO:-0500
TZNAME:EST
DTSTART:20221106T060000
END:STANDARD
BEGIN:DAYLIGHT
TZOFFSETFROM:-0500
TZOFFSETTO:-0400
TZNAME:EDT
DTSTART:20230312T070000
END:DAYLIGHT
BEGIN:STANDARD
TZOFFSETFROM:-0400
TZOFFSETTO:-0500
TZNAME:EST
DTSTART:20231105T060000
END:STANDARD
END:VTIMEZONE
BEGIN:VEVENT
DTSTART;TZID=America/Detroit:20220226T090000
DTEND;TZID=America/Detroit:20220226T150000
DTSTAMP:20260421T035630
CREATED:20220127T144452Z
LAST-MODIFIED:20220127T144452Z
UID:6602-1645866000-1645887600@old.entfkent.org
SUMMARY:Show Me The Money Day
DESCRIPTION:Show Me the Money Day is a FREE\, interactive financial resource fair meant to help you reach your money goals.\nJoin Home Repair Services to:\n* Access vendors\, including banks\, credit unions\, and community\norganizations\n* Attend financial workshops\n* Learn how to build credit\, save for the future\, become a\nhomeowner and more!\nRegister at housingcounseling@homerepairservices.org\nfor any questions contact Amber Jones at (616) 241-2601 ext. 231 \nMuéstrame el dinero es un evento completamente gratis para conectar a toda la comunidad a recursos financieros para apoyarle a lograr sus metas fincieras.\n* Conéctese con organizaciones comunitarias\, bancos y cooperativas\n* Asista a talleres sobre finanzas\n* Aprenda a mantener su crédito\, ahorrar para el futuro\, comprar su propia casa\, entre otros\nPara registrarse\, comuníquese con Alisa Flores al (616) 241-2601 ext 239
URL:https://old.entfkent.org/event/show-me-the-money-day/
LOCATION:Home Repair Services of Kent County\, 1100 Division S\, Grand Rapids\, 49507
ATTACH;FMTTYPE=image/jpeg:https://old.entfkent.org/wp-content/uploads/2022/01/2938_001-scaled.jpg
END:VEVENT
END:VCALENDAR