BEGIN:VCALENDAR
VERSION:2.0
PRODID:-//ENTF - ECPv6.15.13.1//NONSGML v1.0//EN
CALSCALE:GREGORIAN
METHOD:PUBLISH
X-ORIGINAL-URL:https://old.entfkent.org
X-WR-CALDESC:Events for ENTF
REFRESH-INTERVAL;VALUE=DURATION:PT1H
X-Robots-Tag:noindex
X-PUBLISHED-TTL:PT1H
BEGIN:VTIMEZONE
TZID:UTC
BEGIN:STANDARD
TZOFFSETFROM:+0000
TZOFFSETTO:+0000
TZNAME:UTC
DTSTART:20200101T000000
END:STANDARD
END:VTIMEZONE
BEGIN:VEVENT
DTSTART;TZID=UTC:20211216T093000
DTEND;TZID=UTC:20211216T230000
DTSTAMP:20260421T063552
CREATED:20160404T200534Z
LAST-MODIFIED:20210202T132814Z
UID:5735-1639647000-1639695600@old.entfkent.org
SUMMARY:Coalition to End Homelessness Meeting
DESCRIPTION:Join us on Zoom! \nJoin Meeting: https://us02web.zoom.us/j/86785111647?pwd=M1NvL0Y4Nmc5eEhKK21oY05aanBWZz09 \nMeeting ID: 867 8511 1647\nPasscode: 40145 \nDial by your location\n+1 301 715 8592 US (Washington D.C)\n+1 312 626 6799 US (Chicago)\n+1 929 205 6099 US (New York)\nMeeting ID: 867 8511 1647\nPasscode: 40145
URL:https://old.entfkent.org/event/coc-committee-meeting-2021-12-23/
LOCATION:Grand Rapids\, MI\, 49503\, United States
END:VEVENT
END:VCALENDAR