BEGIN:VCALENDAR
VERSION:2.0
PRODID:-//ENTF - ECPv6.15.13.1//NONSGML v1.0//EN
CALSCALE:GREGORIAN
METHOD:PUBLISH
X-ORIGINAL-URL:https://old.entfkent.org
X-WR-CALDESC:Events for ENTF
REFRESH-INTERVAL;VALUE=DURATION:PT1H
X-Robots-Tag:noindex
X-PUBLISHED-TTL:PT1H
BEGIN:VTIMEZONE
TZID:UTC
BEGIN:STANDARD
TZOFFSETFROM:+0000
TZOFFSETTO:+0000
TZNAME:UTC
DTSTART:20190101T000000
END:STANDARD
END:VTIMEZONE
BEGIN:VEVENT
DTSTART;TZID=UTC:20200806T083000
DTEND;TZID=UTC:20200806T100000
DTSTAMP:20260422T085354
CREATED:20160404T200756Z
LAST-MODIFIED:20220406T133827Z
UID:3402-1596702600-1596708000@old.entfkent.org
SUMMARY:Econ/Workforce Committee Meeting
DESCRIPTION:The ENTF Economic and Workforce Development Committee meets on the 1st Thursday of every month from 8:30-10:00. These meetings are open to anyone who seeks to participate in this conversation. \nThe work of this committee is seeking to accomplish the goal: \nAll Kent County residents who seek employment will have opportunities at a sustaining level with pathways to economic stability. \nTo get more information or join the meeting\, contact us at entf@hwmuw.org.
URL:https://old.entfkent.org/event/econworkforce-committee-meeting-2020-08-06/
LOCATION:Grand Rapids\, MI\, 49503\, United States
CATEGORIES:Economic & Workforce Development
END:VEVENT
BEGIN:VEVENT
DTSTART;TZID=UTC:20200825T083000
DTEND;TZID=UTC:20200825T100000
DTSTAMP:20260422T085354
CREATED:20160404T200038Z
LAST-MODIFIED:20210630T155609Z
UID:3406-1598344200-1598349600@old.entfkent.org
SUMMARY:Transportation Committee Meeting
DESCRIPTION:Join us on Zoom! \nJoin Meeting: https://us02web.zoom.us/j/82897511247?pwd=Mkg4NlN6ZFdhZUVHVFFZT2JIWWJQdz09 \nMeeting ID: 828 9751 1247\nPasscode: 854860 \nDial by your location\n+1 301 715 8592 US (Washington D.C)\n+1 312 626 6799 US (Chicago)\n+1 929 205 6099 US (New York)\nMeeting ID: 828 9751 1247\nPasscode: 854860
URL:https://old.entfkent.org/event/transportation-committee-meeting-2020-08-25/
LOCATION:MI
CATEGORIES:Transportation
END:VEVENT
END:VCALENDAR