BEGIN:VCALENDAR
VERSION:2.0
PRODID:-//ENTF - ECPv6.15.13.1//NONSGML v1.0//EN
CALSCALE:GREGORIAN
METHOD:PUBLISH
X-WR-CALNAME:ENTF
X-ORIGINAL-URL:https://old.entfkent.org
X-WR-CALDESC:Events for ENTF
REFRESH-INTERVAL;VALUE=DURATION:PT1H
X-Robots-Tag:noindex
X-PUBLISHED-TTL:PT1H
BEGIN:VTIMEZONE
TZID:UTC
BEGIN:STANDARD
TZOFFSETFROM:+0000
TZOFFSETTO:+0000
TZNAME:UTC
DTSTART:20170101T000000
END:STANDARD
END:VTIMEZONE
BEGIN:VEVENT
DTSTART;TZID=UTC:20180207T110000
DTEND;TZID=UTC:20180207T160000
DTSTAMP:20260424T111903
CREATED:20180205T231308Z
LAST-MODIFIED:20180205T231347Z
UID:2914-1518001200-1518019200@old.entfkent.org
SUMMARY:Municipalities Transportation Meeting
DESCRIPTION:
URL:https://old.entfkent.org/event/municipalities-transportation-meeting/
LOCATION:Heart of West Michigan United Way\, 118 Commerce Ave SW\, Grand Rapids\, MI\, 49503\, United States
CATEGORIES:Transportation
END:VEVENT
BEGIN:VEVENT
DTSTART;TZID=UTC:20180223T080000
DTEND;TZID=UTC:20180223T100000
DTSTAMP:20260424T111903
CREATED:20180220T211048Z
LAST-MODIFIED:20180220T211048Z
UID:2936-1519372800-1519380000@old.entfkent.org
SUMMARY:Food & Nutrition Book Club Meeting
DESCRIPTION:Be ready to discuss chapters 1-5 of “The Stop”. Bring questions\, thoughts\, and ideas! \n  \n 
URL:https://old.entfkent.org/event/food-nutrition-book-club-meeting/
LOCATION:Lightfast Coffee\, 944 Fulton ST E\, Grand Rapids\, MI
CATEGORIES:Food and Nutrition
END:VEVENT
BEGIN:VEVENT
DTSTART;TZID=UTC:20180224T083000
DTEND;TZID=UTC:20180224T113000
DTSTAMP:20260424T111903
CREATED:20180220T211522Z
LAST-MODIFIED:20180220T211709Z
UID:2938-1519461000-1519471800@old.entfkent.org
SUMMARY:Kent County Community Action Walk for Warmth
DESCRIPTION:The Walk for Warmth is an annual\nevent\, hosted by Community Action\nAgencies across the country\, to promote\nawareness of the need for heating fuel\nassistance for households with low\nincome. \n121 Franklin St SE\, Grand Rapids\, MI \nRegistration – 8:30am   Walk – 9:00am \nFor more information please call (616) 632-7951
URL:https://old.entfkent.org/event/kent-county-community-action-walk-warmth/
LOCATION:MI
END:VEVENT
END:VCALENDAR