BEGIN:VCALENDAR
VERSION:2.0
PRODID:-//ENTF - ECPv6.15.13.1//NONSGML v1.0//EN
CALSCALE:GREGORIAN
METHOD:PUBLISH
X-ORIGINAL-URL:https://old.entfkent.org
X-WR-CALDESC:Events for ENTF
REFRESH-INTERVAL;VALUE=DURATION:PT1H
X-Robots-Tag:noindex
X-PUBLISHED-TTL:PT1H
BEGIN:VTIMEZONE
TZID:UTC
BEGIN:STANDARD
TZOFFSETFROM:+0000
TZOFFSETTO:+0000
TZNAME:UTC
DTSTART:20160101T000000
END:STANDARD
END:VTIMEZONE
BEGIN:VEVENT
DTSTART;TZID=UTC:20171023T113000
DTEND;TZID=UTC:20171023T130000
DTSTAMP:20260424T173253
CREATED:20171019T200732Z
LAST-MODIFIED:20171019T200747Z
UID:2797-1508758200-1508763600@old.entfkent.org
SUMMARY:Lunch With Legislators Event
DESCRIPTION:Keynote Presentation: \nKeynote speaker Katherine B. Stevens will discuss this month’s topic: Workforce of Today\, Workforce of Tomorrow: The Business Case for High-Quality Childcare. \nPanel Discussion: \nHear from a panel including Senators Goeff Hansen and Peter MacGregor\, Representative Rob VerHeulen\, John Wilson\, CEO of Western Land Services\, and Michelle Richard\, Vice President of Public Sector Consultants.   In addition to the panel\, the following legislators are also expected: Senators Hildenbrand and O’Brien & Representatives Afendoulis\, Albert\, Brinks\, Hughes\, Johnson\, Victory and Whiteford \nClick on the website link for more information and to register for the event!
URL:https://old.entfkent.org/event/lunch-with-legislators/
LOCATION:Frederik Meijer Gardens & Sculpture Park\, 1000 E. Beltline Ave NE\, Grand Rapids\, MI
END:VEVENT
BEGIN:VEVENT
DTSTART;TZID=UTC:20171024T190000
DTEND;TZID=UTC:20171024T203000
DTSTAMP:20260424T173253
CREATED:20171004T202942Z
LAST-MODIFIED:20171017T183124Z
UID:2351-1508871600-1508877000@old.entfkent.org
SUMMARY:Big Hunger - A discussion with nationally acclaimed author\, Andrew Fisher
DESCRIPTION:Nationally acclaimed author Andrew Fisher will be in Grand Rapids to discuss his book Big Hunger: The Unholy Alliance Between Corporate America and Anti-Hunger Groups. \nThe decline of Rust Belt communities since the 1980s has been paralleled by the rapid growth of food banks. Instead of challenging the government and corporations to provide living wages and good jobs\, the anti-hunger movement has instead built alliances with Walmart\, Tyson\, Monsanto\, and other socially irresponsible companies. Big Hunger reveals the damage caused by this hunger-industrial complex\, and offers a new vision for the anti-hunger movement to shift toward a focus on health\, economic justice\, and boldtering local economies. \nJoin us at Cathedral Square for a discussion with Andrew and a panel featuring local stakeholders. This event is free and open to the public. \n 
URL:https://old.entfkent.org/event/big-hunger-discussion-nationally-acclaimed-author-andrew-fisher/
LOCATION:Roman Catholic Diocese of Grand Rapids\, 360 Division Ave South\, Grand Rapids\, MI\, 49503
CATEGORIES:Food and Nutrition
END:VEVENT
END:VCALENDAR