BEGIN:VCALENDAR
VERSION:2.0
PRODID:-//ENTF - ECPv6.15.13.1//NONSGML v1.0//EN
CALSCALE:GREGORIAN
METHOD:PUBLISH
X-WR-CALNAME:ENTF
X-ORIGINAL-URL:https://old.entfkent.org
X-WR-CALDESC:Events for ENTF
REFRESH-INTERVAL;VALUE=DURATION:PT1H
X-Robots-Tag:noindex
X-PUBLISHED-TTL:PT1H
BEGIN:VTIMEZONE
TZID:UTC
BEGIN:STANDARD
TZOFFSETFROM:+0000
TZOFFSETTO:+0000
TZNAME:UTC
DTSTART:20180101T000000
END:STANDARD
END:VTIMEZONE
BEGIN:VEVENT
DTSTART;TZID=UTC:20190313T083000
DTEND;TZID=UTC:20190313T103000
DTSTAMP:20260421T210706
CREATED:20160404T195702Z
LAST-MODIFIED:20190305T161326Z
UID:2962-1552465800-1552473000@old.entfkent.org
SUMMARY:Food/Nutrition Committee Meeting
DESCRIPTION:
URL:https://old.entfkent.org/event/foodnutrition-committee-meeting-2-2019-03-13/
LOCATION:The Other Way Ministries\, 710 Fulton W\, Grand Rapids\, MI\, 49504\, United States
CATEGORIES:Food and Nutrition
END:VEVENT
END:VCALENDAR