BEGIN:VCALENDAR
VERSION:2.0
PRODID:-//ENTF - ECPv6.15.13.1//NONSGML v1.0//EN
CALSCALE:GREGORIAN
METHOD:PUBLISH
X-WR-CALNAME:ENTF
X-ORIGINAL-URL:https://old.entfkent.org
X-WR-CALDESC:Events for ENTF
REFRESH-INTERVAL;VALUE=DURATION:PT1H
X-Robots-Tag:noindex
X-PUBLISHED-TTL:PT1H
BEGIN:VTIMEZONE
TZID:UTC
BEGIN:STANDARD
TZOFFSETFROM:+0000
TZOFFSETTO:+0000
TZNAME:UTC
DTSTART:20180101T000000
END:STANDARD
END:VTIMEZONE
BEGIN:VEVENT
DTSTART;TZID=UTC:20190710T083000
DTEND;TZID=UTC:20190710T103000
DTSTAMP:20260421T125354
CREATED:20160404T195702Z
LAST-MODIFIED:20190305T163302Z
UID:2998-1562747400-1562754600@old.entfkent.org
SUMMARY:Food/Nutrition Committee Meeting
DESCRIPTION:
URL:https://old.entfkent.org/event/foodnutrition-committee-meeting-2-2019-04-10-2019-07-10/
LOCATION:New City Neighbors\, 1226 Union Ave. NE\, Grand Rapids\, MI\, 49505\, United States
CATEGORIES:Food and Nutrition
END:VEVENT
END:VCALENDAR