BEGIN:VCALENDAR
VERSION:2.0
PRODID:-//ENTF - ECPv6.15.13.1//NONSGML v1.0//EN
CALSCALE:GREGORIAN
METHOD:PUBLISH
X-ORIGINAL-URL:https://old.entfkent.org
X-WR-CALDESC:Events for ENTF
REFRESH-INTERVAL;VALUE=DURATION:PT1H
X-Robots-Tag:noindex
X-PUBLISHED-TTL:PT1H
BEGIN:VTIMEZONE
TZID:UTC
BEGIN:STANDARD
TZOFFSETFROM:+0000
TZOFFSETTO:+0000
TZNAME:UTC
DTSTART:20170101T000000
END:STANDARD
END:VTIMEZONE
BEGIN:VEVENT
DTSTART;TZID=UTC:20180124T080000
DTEND;TZID=UTC:20180124T093000
DTSTAMP:20260422T174855
CREATED:20180117T194243Z
LAST-MODIFIED:20180117T194650Z
UID:2899-1516780800-1516786200@old.entfkent.org
SUMMARY:Food & Nutrition Committee Book Club
DESCRIPTION:The Food & Nutrition Book Club is going to be meeting this month for the first time and everyone is welcome to join!\nThe book being read is “Big Hunger” by Andrew Fisher\, you can see more information about the book and buy a copy on the author’s website here: https://www.bighunger.org/. \nThis month the book club will be meeting at Lightfast Coffee (944 Fulton St E) and will be about an hour to an hour and thirty minutes. Please try to have the first 5 or so chapters of the book read\, to give some structure and expectation to what content will be discussed.
URL:https://old.entfkent.org/event/food-nutrition-subcommittee-book-club/
LOCATION:Lightfast Coffee\, 944 Fulton ST E\, Grand Rapids\, MI
CATEGORIES:Food and Nutrition
END:VEVENT
END:VCALENDAR