BEGIN:VCALENDAR
VERSION:2.0
PRODID:-//ENTF - ECPv6.15.13.1//NONSGML v1.0//EN
CALSCALE:GREGORIAN
METHOD:PUBLISH
X-WR-CALNAME:ENTF
X-ORIGINAL-URL:https://old.entfkent.org
X-WR-CALDESC:Events for ENTF
REFRESH-INTERVAL;VALUE=DURATION:PT1H
X-Robots-Tag:noindex
X-PUBLISHED-TTL:PT1H
BEGIN:VTIMEZONE
TZID:America/New_York
BEGIN:DAYLIGHT
TZOFFSETFROM:-0500
TZOFFSETTO:-0400
TZNAME:EDT
DTSTART:20180311T070000
END:DAYLIGHT
BEGIN:STANDARD
TZOFFSETFROM:-0400
TZOFFSETTO:-0500
TZNAME:EST
DTSTART:20181104T060000
END:STANDARD
BEGIN:DAYLIGHT
TZOFFSETFROM:-0500
TZOFFSETTO:-0400
TZNAME:EDT
DTSTART:20190310T070000
END:DAYLIGHT
BEGIN:STANDARD
TZOFFSETFROM:-0400
TZOFFSETTO:-0500
TZNAME:EST
DTSTART:20191103T060000
END:STANDARD
BEGIN:DAYLIGHT
TZOFFSETFROM:-0500
TZOFFSETTO:-0400
TZNAME:EDT
DTSTART:20200308T070000
END:DAYLIGHT
BEGIN:STANDARD
TZOFFSETFROM:-0400
TZOFFSETTO:-0500
TZNAME:EST
DTSTART:20201101T060000
END:STANDARD
END:VTIMEZONE
BEGIN:VEVENT
DTSTART;VALUE=DATE:20191202
DTEND;VALUE=DATE:20191203
DTSTAMP:20260423T010523
CREATED:20190702T111811Z
LAST-MODIFIED:20190702T111811Z
UID:3353-1575244800-1575331199@old.entfkent.org
SUMMARY:International Conference on Green Energy and Recycling
DESCRIPTION:International Conference on Green Energy and Recycling warmly welcomes each one of the individuals and supporters from worldwide to attend during December 02-03\, 2019 in Berlin\, Germany which will emphasize on the theme ‘Green Energy: Brightening Up the Sustainable World’. This Congress will serve an excellent experience and opportunities to enhance one’s career. This conference is focused on all the major fields of Green Energy & recycling. It provides a platform for researchers/scientists to share and globalize their research work while the participants from industry can promote their products thus felicitating dissemination of knowledge. We anticipate participants around the globe with thought provoking keynote lectures\, oral and poster presentations.
URL:https://old.entfkent.org/event/international-conference-on-green-energy-and-recycling/
CATEGORIES:Energy Efficiency
END:VEVENT
END:VCALENDAR