BEGIN:VCALENDAR
VERSION:2.0
PRODID:-//ENTF - ECPv6.15.13.1//NONSGML v1.0//EN
CALSCALE:GREGORIAN
METHOD:PUBLISH
X-WR-CALNAME:ENTF
X-ORIGINAL-URL:https://old.entfkent.org
X-WR-CALDESC:Events for ENTF
REFRESH-INTERVAL;VALUE=DURATION:PT1H
X-Robots-Tag:noindex
X-PUBLISHED-TTL:PT1H
BEGIN:VTIMEZONE
TZID:UTC
BEGIN:STANDARD
TZOFFSETFROM:+0000
TZOFFSETTO:+0000
TZNAME:UTC
DTSTART:20200101T000000
END:STANDARD
END:VTIMEZONE
BEGIN:VEVENT
DTSTART;TZID=UTC:20211122T140000
DTEND;TZID=UTC:20211122T153000
DTSTAMP:20260421T102215
CREATED:20160404T200335Z
LAST-MODIFIED:20211109T175228Z
UID:5908-1637589600-1637595000@old.entfkent.org
SUMMARY:Energy Efficiency Committee Meeting
DESCRIPTION:Join us on Zoom!\nJoin Meeting: https://us02web.zoom.us/j/81041058684?pwd=czJZbTN1YzhOb1o5M0VQay96THlIQT09 \nMeeting ID: 810 4105 8684\nPasscode: 514446 \nDial by your location\n+1 301 715 8592 US (Washington DC)\n+1 312 626 6799 US (Chicago)\n+1 929 205 6099 US (New York)\nMeeting ID: 810 4105 8684\nPasscode: 514446
URL:https://old.entfkent.org/event/energy-efficiency-committee-meeting-2021-02-23-2021-11-25/
LOCATION:Grand Rapids\, MI\, 49503\, United States
CATEGORIES:Energy Efficiency
END:VEVENT
END:VCALENDAR