BEGIN:VCALENDAR
VERSION:2.0
PRODID:-//ENTF - ECPv6.15.13.1//NONSGML v1.0//EN
CALSCALE:GREGORIAN
METHOD:PUBLISH
X-ORIGINAL-URL:https://old.entfkent.org
X-WR-CALDESC:Events for ENTF
REFRESH-INTERVAL;VALUE=DURATION:PT1H
X-Robots-Tag:noindex
X-PUBLISHED-TTL:PT1H
BEGIN:VTIMEZONE
TZID:America/Detroit
BEGIN:DAYLIGHT
TZOFFSETFROM:-0500
TZOFFSETTO:-0400
TZNAME:EDT
DTSTART:20210314T070000
END:DAYLIGHT
BEGIN:STANDARD
TZOFFSETFROM:-0400
TZOFFSETTO:-0500
TZNAME:EST
DTSTART:20211107T060000
END:STANDARD
BEGIN:DAYLIGHT
TZOFFSETFROM:-0500
TZOFFSETTO:-0400
TZNAME:EDT
DTSTART:20220313T070000
END:DAYLIGHT
BEGIN:STANDARD
TZOFFSETFROM:-0400
TZOFFSETTO:-0500
TZNAME:EST
DTSTART:20221106T060000
END:STANDARD
BEGIN:DAYLIGHT
TZOFFSETFROM:-0500
TZOFFSETTO:-0400
TZNAME:EDT
DTSTART:20230312T070000
END:DAYLIGHT
BEGIN:STANDARD
TZOFFSETFROM:-0400
TZOFFSETTO:-0500
TZNAME:EST
DTSTART:20231105T060000
END:STANDARD
END:VTIMEZONE
BEGIN:VEVENT
DTSTART;TZID=America/Detroit:20220926T183000
DTEND;TZID=America/Detroit:20220926T203000
DTSTAMP:20260420T154602
CREATED:20220822T155040Z
LAST-MODIFIED:20220822T155040Z
UID:7109-1664217000-1664224200@old.entfkent.org
SUMMARY:The US Census: Data and Your Community with the West Michigan Research Network
DESCRIPTION:Join Jeff Williams\, Director of Community Data and Research Lab at the Dorothy A. Johnson Center for Philanthropy\, for a presentation on the 2020 Census\, immediately followed by a panel discussion of West Michigan researchers moderated by Neil Carlson\, Director of DataWise Consulting. This program will break down the 2020 Census results and discuss the impact on our communities now and in the future. \nThis event is free and open to the public. It is designed for information professionals\, people interested in and employed in local government\, and community-minded citizens of West Michigan.
URL:https://old.entfkent.org/event/census-data-and-your-community/
LOCATION:Grand Rapids Public Library\, 111 Library Street NE\, Grand Rapids\, MI\, 49503\, United States
END:VEVENT
END:VCALENDAR