BEGIN:VCALENDAR
VERSION:2.0
PRODID:-//ENTF - ECPv6.15.13.1//NONSGML v1.0//EN
CALSCALE:GREGORIAN
METHOD:PUBLISH
X-WR-CALNAME:ENTF
X-ORIGINAL-URL:https://old.entfkent.org
X-WR-CALDESC:Events for ENTF
REFRESH-INTERVAL;VALUE=DURATION:PT1H
X-Robots-Tag:noindex
X-PUBLISHED-TTL:PT1H
BEGIN:VTIMEZONE
TZID:America/Detroit
BEGIN:DAYLIGHT
TZOFFSETFROM:-0500
TZOFFSETTO:-0400
TZNAME:EDT
DTSTART:20210314T070000
END:DAYLIGHT
BEGIN:STANDARD
TZOFFSETFROM:-0400
TZOFFSETTO:-0500
TZNAME:EST
DTSTART:20211107T060000
END:STANDARD
BEGIN:DAYLIGHT
TZOFFSETFROM:-0500
TZOFFSETTO:-0400
TZNAME:EDT
DTSTART:20220313T070000
END:DAYLIGHT
BEGIN:STANDARD
TZOFFSETFROM:-0400
TZOFFSETTO:-0500
TZNAME:EST
DTSTART:20221106T060000
END:STANDARD
BEGIN:DAYLIGHT
TZOFFSETFROM:-0500
TZOFFSETTO:-0400
TZNAME:EDT
DTSTART:20230312T070000
END:DAYLIGHT
BEGIN:STANDARD
TZOFFSETFROM:-0400
TZOFFSETTO:-0500
TZNAME:EST
DTSTART:20231105T060000
END:STANDARD
END:VTIMEZONE
BEGIN:VEVENT
DTSTART;TZID=America/Detroit:20220912T103000
DTEND;TZID=America/Detroit:20220912T120000
DTSTAMP:20260420T172537
CREATED:20220727T152832Z
LAST-MODIFIED:20220727T153908Z
UID:7095-1662978600-1662984000@old.entfkent.org
SUMMARY:Let's Talk Interviews and Focus Groups
DESCRIPTION:Planning and conducting qualitative research can be intimidating. The interviewer has to meet real people face-to-face and figure out how to elicit answers of interest. We have to do so without being heavy-handed and without signaling disinterest in the whole person or their whole story. We will discuss how to adopt a genuinely empathetic posture and how to signal interest while keeping the conversation on track. We will offer a hands-on demonstration experience and showcase some ways to bridge qualitative and quantitative work through structured data tables in simple tools like Excel or Google Sheets. \nPlease plan to attend all three days. This is an interactive workshop series with individualized support available during and after each session. It will not be recorded. This training is led by our partners at DataWise Consulting. Register at https://us02web.zoom.us/meeting/register/tZIkc-yurzIpHtaDwh4Fw9s9_Aj3K5J3p6wi.
URL:https://old.entfkent.org/event/lets-talk-interviews-and-focus-groups/
LOCATION:Virtual\, MI
END:VEVENT
END:VCALENDAR