BEGIN:VCALENDAR
VERSION:2.0
PRODID:-//ENTF - ECPv6.15.13.1//NONSGML v1.0//EN
CALSCALE:GREGORIAN
METHOD:PUBLISH
X-ORIGINAL-URL:https://old.entfkent.org
X-WR-CALDESC:Events for ENTF
REFRESH-INTERVAL;VALUE=DURATION:PT1H
X-Robots-Tag:noindex
X-PUBLISHED-TTL:PT1H
BEGIN:VTIMEZONE
TZID:America/Detroit
BEGIN:DAYLIGHT
TZOFFSETFROM:-0500
TZOFFSETTO:-0400
TZNAME:EDT
DTSTART:20200308T070000
END:DAYLIGHT
BEGIN:STANDARD
TZOFFSETFROM:-0400
TZOFFSETTO:-0500
TZNAME:EST
DTSTART:20201101T060000
END:STANDARD
BEGIN:DAYLIGHT
TZOFFSETFROM:-0500
TZOFFSETTO:-0400
TZNAME:EDT
DTSTART:20210314T070000
END:DAYLIGHT
BEGIN:STANDARD
TZOFFSETFROM:-0400
TZOFFSETTO:-0500
TZNAME:EST
DTSTART:20211107T060000
END:STANDARD
BEGIN:DAYLIGHT
TZOFFSETFROM:-0500
TZOFFSETTO:-0400
TZNAME:EDT
DTSTART:20220313T070000
END:DAYLIGHT
BEGIN:STANDARD
TZOFFSETFROM:-0400
TZOFFSETTO:-0500
TZNAME:EST
DTSTART:20221106T060000
END:STANDARD
END:VTIMEZONE
BEGIN:VEVENT
DTSTART;TZID=America/Detroit:20210715T090000
DTEND;TZID=America/Detroit:20210715T110000
DTSTAMP:20260421T160124
CREATED:20210713T201317Z
LAST-MODIFIED:20210713T201317Z
UID:6375-1626339600-1626346800@old.entfkent.org
SUMMARY:Introduction to People Powered Advocacy
DESCRIPTION:– Presented by Michigan League for Public Policy in partnership with the Essential Needs Task Force\, this is part one in a three part series. This training will provide an overview of the structure of government processes that impact government\, business\, and community services. You will learn how to research and understand proposed legislation and the various roles and responsibilities of government officials in decision-making\, and how and when to connect with decision-makers to inform the processes. Please share this with your colleagues/co-workers and community organizers\, as well. \nRegister here: https://us02web.zoom.us/meeting/register/tZMsdOqvqD4sHtNjlXYdBB1Dc3jeFJrsCnlp
URL:https://old.entfkent.org/event/introduction-to-people-powered-advocacy/
LOCATION:Grand Rapids\, MI\, 49503\, United States
CATEGORIES:Community Events
END:VEVENT
END:VCALENDAR