BEGIN:VCALENDAR
VERSION:2.0
PRODID:-//ENTF - ECPv6.15.13.1//NONSGML v1.0//EN
CALSCALE:GREGORIAN
METHOD:PUBLISH
X-WR-CALNAME:ENTF
X-ORIGINAL-URL:https://old.entfkent.org
X-WR-CALDESC:Events for ENTF
REFRESH-INTERVAL;VALUE=DURATION:PT1H
X-Robots-Tag:noindex
X-PUBLISHED-TTL:PT1H
BEGIN:VTIMEZONE
TZID:UTC
BEGIN:STANDARD
TZOFFSETFROM:+0000
TZOFFSETTO:+0000
TZNAME:UTC
DTSTART:20180101T000000
END:STANDARD
END:VTIMEZONE
BEGIN:VEVENT
DTSTART;TZID=UTC:20191212T093000
DTEND;TZID=UTC:20191212T230000
DTSTAMP:20260422T231555
CREATED:20160404T200534Z
LAST-MODIFIED:20191118T133809Z
UID:3079-1576143000-1576191600@old.entfkent.org
SUMMARY:CoC Committee Meeting
DESCRIPTION:
URL:https://old.entfkent.org/event/coc-committee-meeting-2019-12-26/
LOCATION:Salvation Army Kroc Center\, 2500 S Division\, Grand Rapids\, MI\, 49507\, United States
END:VEVENT
END:VCALENDAR