BEGIN:VCALENDAR
VERSION:2.0
PRODID:-//ENTF - ECPv6.15.13.1//NONSGML v1.0//EN
CALSCALE:GREGORIAN
METHOD:PUBLISH
X-WR-CALNAME:ENTF
X-ORIGINAL-URL:https://old.entfkent.org
X-WR-CALDESC:Events for ENTF
REFRESH-INTERVAL;VALUE=DURATION:PT1H
X-Robots-Tag:noindex
X-PUBLISHED-TTL:PT1H
BEGIN:VTIMEZONE
TZID:UTC
BEGIN:STANDARD
TZOFFSETFROM:+0000
TZOFFSETTO:+0000
TZNAME:UTC
DTSTART:20180101T000000
END:STANDARD
END:VTIMEZONE
BEGIN:VEVENT
DTSTART;TZID=UTC:20190307T083000
DTEND;TZID=UTC:20190307T100000
DTSTAMP:20260423T145033
CREATED:20160404T200756Z
LAST-MODIFIED:20180330T195501Z
UID:2952-1551947400-1551952800@old.entfkent.org
SUMMARY:Econ/Workforce Committee Meeting
DESCRIPTION:
URL:https://old.entfkent.org/event/econworkforce-committee-meeting-2019-03-07/
LOCATION:West Michigan Works! Service Center\, 215 Straight Ave NW\, Grand Rapids\, MI\, United States
CATEGORIES:Economic & Workforce Development
END:VEVENT
END:VCALENDAR