BEGIN:VCALENDAR
VERSION:2.0
PRODID:-//ENTF - ECPv6.15.13.1//NONSGML v1.0//EN
CALSCALE:GREGORIAN
METHOD:PUBLISH
X-WR-CALNAME:ENTF
X-ORIGINAL-URL:https://old.entfkent.org
X-WR-CALDESC:Events for ENTF
REFRESH-INTERVAL;VALUE=DURATION:PT1H
X-Robots-Tag:noindex
X-PUBLISHED-TTL:PT1H
BEGIN:VTIMEZONE
TZID:UTC
BEGIN:STANDARD
TZOFFSETFROM:+0000
TZOFFSETTO:+0000
TZNAME:UTC
DTSTART:20170101T000000
END:STANDARD
END:VTIMEZONE
BEGIN:VEVENT
DTSTART;TZID=UTC:20180131T130000
DTEND;TZID=UTC:20180131T143000
DTSTAMP:20260424T124031
CREATED:20180117T194851Z
LAST-MODIFIED:20180117T194851Z
UID:2904-1517403600-1517409000@old.entfkent.org
SUMMARY:Connect with the Michigan League for Public Policy
DESCRIPTION:You’re invited to connect with the Michigan League for Public Policy.\nJanuary 31\, 2018   |   1:00 to 2:30 pm\nHeart of West Michigan United Way\n118 Commerce Ave SW\, Grand Rapids\, MI 40503 \nWhether or not you are familiar with the League\, this meeting will provide an overview of their organization and work:\n• Priorities\n• Kids Count and other Research and Products available to non-profits\n• Advocacy efforts toward economic\, health and educational opportunities for all residents\, families and children in Michigan\n• How non-profit and community groups and the League can work together\n• Community engagement in West Michigan\nPresenters:\n• Gilda Jacobs\, President/CEO\n• Jenny Kinne\, Community Engagement Specialist \nPlease reserve your spot at: https://mlppoverview.eventbrite.com
URL:https://old.entfkent.org/event/connect-michigan-league-public-policy/
LOCATION:Heart of West Michigan United Way\, 118 Commerce Ave SW\, Grand Rapids\, MI\, 49503\, United States
END:VEVENT
END:VCALENDAR