BEGIN:VCALENDAR
VERSION:2.0
PRODID:-//ENTF - ECPv6.15.13.1//NONSGML v1.0//EN
CALSCALE:GREGORIAN
METHOD:PUBLISH
X-WR-CALNAME:ENTF
X-ORIGINAL-URL:https://old.entfkent.org
X-WR-CALDESC:Events for ENTF
REFRESH-INTERVAL;VALUE=DURATION:PT1H
X-Robots-Tag:noindex
X-PUBLISHED-TTL:PT1H
BEGIN:VTIMEZONE
TZID:UTC
BEGIN:STANDARD
TZOFFSETFROM:+0000
TZOFFSETTO:+0000
TZNAME:UTC
DTSTART:20170101T000000
END:STANDARD
END:VTIMEZONE
BEGIN:VEVENT
DTSTART;TZID=UTC:20180126T103000
DTEND;TZID=UTC:20180126T133000
DTSTAMP:20260424T141547
CREATED:20180117T195614Z
LAST-MODIFIED:20180117T195614Z
UID:2906-1516962600-1516973400@old.entfkent.org
SUMMARY:Kent County Tax Credit Coalition Annual Kick-Off
DESCRIPTION:The Kent County Tax Credit Coalition (KCTCC) is having their annual Kick-Off on January 26th at 10:30am at LincUp\, which is also National EITC Day. This will be the 15th year of KCTCC providing service to Kent County.\nThere are 14 sites with IRS certified volunteers equipped to service any household with an income of $55\,000 or less. \n*Please note that free tax preparation will not occur at the kick-off. To schedule an appointment for free tax preparation please dial 211.\nFor more information about free tax preparation\, click here.
URL:https://old.entfkent.org/event/kent-county-tax-credit-coalition-annual-kick-off/
LOCATION:LINC Up\, 1167 Madison Ave SE\, Grand Rapids\, MI\, 49507
END:VEVENT
END:VCALENDAR